BEGIN:VCALENDAR
VERSION:2.0
METHOD:PUBLISH
PRODID:-//schulferien.org//iCal Generator//DE
BEGIN:VEVENT
CREATED:20260407T032003Z
LAST-MODIFIED:20260407T032003Z
DTSTAMP:20260407T032003Z
SUMMARY:Neujahr
DTSTART;VALUE=DATE:20260101
DTEND;VALUE=DATE:20260102
URL:http://www.schulferien.org
DESCRIPTION:Alle Termine auf www.schulferien.org
TRANSP:TRANSPARENT
UID:FT_2026_feiertag69d45bc6811dd@schulferien.org
END:VEVENT
BEGIN:VEVENT
CREATED:20260407T032003Z
LAST-MODIFIED:20260407T032003Z
DTSTAMP:20260407T032003Z
SUMMARY:2. Weihnachtsfeiertag
DTSTART;VALUE=DATE:20261226
DTEND;VALUE=DATE:20261227
URL:http://www.schulferien.org
DESCRIPTION:Alle Termine auf www.schulferien.org
TRANSP:TRANSPARENT
UID:FT_2026_feiertag69d45bc68ea93@schulferien.org
END:VEVENT
BEGIN:VEVENT
CREATED:20260407T032003Z
LAST-MODIFIED:20260407T032003Z
DTSTAMP:20260407T032003Z
SUMMARY:Heilige Drei Könige
DTSTART;VALUE=DATE:20260106
DTEND;VALUE=DATE:20260107
URL:http://www.schulferien.org
DESCRIPTION:Alle Termine auf www.schulferien.org
TRANSP:TRANSPARENT
UID:FT_2026_feiertag69d45bc6821b7@schulferien.org
END:VEVENT
BEGIN:VEVENT
CREATED:20260407T032003Z
LAST-MODIFIED:20260407T032003Z
DTSTAMP:20260407T032003Z
SUMMARY:Karfreitag
DTSTART;VALUE=DATE:20260403
DTEND;VALUE=DATE:20260404
URL:http://www.schulferien.org
DESCRIPTION:Alle Termine auf www.schulferien.org
TRANSP:TRANSPARENT
UID:FT_2026_feiertag69d45bc686d7d@schulferien.org
END:VEVENT
BEGIN:VEVENT
CREATED:20260407T032003Z
LAST-MODIFIED:20260407T032003Z
DTSTAMP:20260407T032003Z
SUMMARY:Ostermontag
DTSTART;VALUE=DATE:20260406
DTEND;VALUE=DATE:20260407
URL:http://www.schulferien.org
DESCRIPTION:Alle Termine auf www.schulferien.org
TRANSP:TRANSPARENT
UID:FT_2026_feiertag69d45bc688e58@schulferien.org
END:VEVENT
BEGIN:VEVENT
CREATED:20260407T032003Z
LAST-MODIFIED:20260407T032003Z
DTSTAMP:20260407T032003Z
SUMMARY:Tag der Arbeit
DTSTART;VALUE=DATE:20260501
DTEND;VALUE=DATE:20260502
URL:http://www.schulferien.org
DESCRIPTION:Alle Termine auf www.schulferien.org
TRANSP:TRANSPARENT
UID:FT_2026_feiertag69d45bc689889@schulferien.org
END:VEVENT
BEGIN:VEVENT
CREATED:20260407T032003Z
LAST-MODIFIED:20260407T032003Z
DTSTAMP:20260407T032003Z
SUMMARY:Christi Himmelfahrt
DTSTART;VALUE=DATE:20260514
DTEND;VALUE=DATE:20260515
URL:http://www.schulferien.org
DESCRIPTION:Alle Termine auf www.schulferien.org
TRANSP:TRANSPARENT
UID:FT_2026_feiertag69d45bc68af0e@schulferien.org
END:VEVENT
BEGIN:VEVENT
CREATED:20260407T032003Z
LAST-MODIFIED:20260407T032003Z
DTSTAMP:20260407T032003Z
SUMMARY:Pfingstmontag
DTSTART;VALUE=DATE:20260525
DTEND;VALUE=DATE:20260526
URL:http://www.schulferien.org
DESCRIPTION:Alle Termine auf www.schulferien.org
TRANSP:TRANSPARENT
UID:FT_2026_feiertag69d45bc68c9dd@schulferien.org
END:VEVENT
BEGIN:VEVENT
CREATED:20260407T032003Z
LAST-MODIFIED:20260407T032003Z
DTSTAMP:20260407T032003Z
SUMMARY:Fronleichnam
DTSTART;VALUE=DATE:20260604
DTEND;VALUE=DATE:20260605
URL:http://www.schulferien.org
DESCRIPTION:Alle Termine auf www.schulferien.org
TRANSP:TRANSPARENT
UID:FT_2026_feiertag69d45bc68d6cb@schulferien.org
END:VEVENT
BEGIN:VEVENT
CREATED:20260407T032003Z
LAST-MODIFIED:20260407T032003Z
DTSTAMP:20260407T032003Z
SUMMARY:Mariä Himmelfahrt
DTSTART;VALUE=DATE:20260815
DTEND;VALUE=DATE:20260816
URL:http://www.schulferien.org
DESCRIPTION:Alle Termine auf www.schulferien.org
TRANSP:TRANSPARENT
UID:FT_2026_feiertag69d45bc68e879@schulferien.org
END:VEVENT
BEGIN:VEVENT
CREATED:20260407T032003Z
LAST-MODIFIED:20260407T032003Z
DTSTAMP:20260407T032003Z
SUMMARY:Tag der Deutschen Einheit
DTSTART;VALUE=DATE:20261003
DTEND;VALUE=DATE:20261004
URL:http://www.schulferien.org
DESCRIPTION:Alle Termine auf www.schulferien.org
TRANSP:TRANSPARENT
UID:FT_2026_feiertag69d45bc681555@schulferien.org
END:VEVENT
BEGIN:VEVENT
CREATED:20260407T032003Z
LAST-MODIFIED:20260407T032003Z
DTSTAMP:20260407T032003Z
SUMMARY:Allerheiligen
DTSTART;VALUE=DATE:20261101
DTEND;VALUE=DATE:20261102
URL:http://www.schulferien.org
DESCRIPTION:Alle Termine auf www.schulferien.org
TRANSP:TRANSPARENT
UID:FT_2026_feiertag69d45bc6854aa@schulferien.org
END:VEVENT
BEGIN:VEVENT
CREATED:20260407T032003Z
LAST-MODIFIED:20260407T032003Z
DTSTAMP:20260407T032003Z
SUMMARY:1. Weihnachtsfeiertag
DTSTART;VALUE=DATE:20261225
DTEND;VALUE=DATE:20261226
URL:http://www.schulferien.org
DESCRIPTION:Alle Termine auf www.schulferien.org
TRANSP:TRANSPARENT
UID:FT_2026_feiertag69d45bc68e094@schulferien.org
END:VEVENT
END:VCALENDAR