BEGIN:VCALENDAR
VERSION:2.0
METHOD:PUBLISH
PRODID:-//schulferien.org//iCal Generator//DE
BEGIN:VEVENT
CREATED:20260407T032003Z
LAST-MODIFIED:20260407T032003Z
DTSTAMP:20260407T032003Z
SUMMARY:Winterferien 2026 Bayern
DTSTART;VALUE=DATE:20260216
DTEND;VALUE=DATE:20260221
URL:http://www.schulferien.org
DESCRIPTION:Alle Termine auf www.schulferien.org
TRANSP:TRANSPARENT
UID:F_2026_termin69d45bc6ad997@schulferien.org
END:VEVENT
BEGIN:VEVENT
CREATED:20260407T032003Z
LAST-MODIFIED:20260407T032003Z
DTSTAMP:20260407T032003Z
SUMMARY:Osterferien 2026 Bayern
DTSTART;VALUE=DATE:20260330
DTEND;VALUE=DATE:20260411
URL:http://www.schulferien.org
DESCRIPTION:Alle Termine auf www.schulferien.org
TRANSP:TRANSPARENT
UID:F_2026_termin69d45bc6adce0@schulferien.org
END:VEVENT
BEGIN:VEVENT
CREATED:20260407T032003Z
LAST-MODIFIED:20260407T032003Z
DTSTAMP:20260407T032003Z
SUMMARY:Pfingstferien 2026 Bayern
DTSTART;VALUE=DATE:20260526
DTEND;VALUE=DATE:20260606
URL:http://www.schulferien.org
DESCRIPTION:Alle Termine auf www.schulferien.org
TRANSP:TRANSPARENT
UID:F_2026_termin69d45bc6add35@schulferien.org
END:VEVENT
BEGIN:VEVENT
CREATED:20260407T032003Z
LAST-MODIFIED:20260407T032003Z
DTSTAMP:20260407T032003Z
SUMMARY:Sommerferien 2026 Bayern
DTSTART;VALUE=DATE:20260803
DTEND;VALUE=DATE:20260915
URL:http://www.schulferien.org
DESCRIPTION:Alle Termine auf www.schulferien.org
TRANSP:TRANSPARENT
UID:F_2026_termin69d45bc6add65@schulferien.org
END:VEVENT
BEGIN:VEVENT
CREATED:20260407T032003Z
LAST-MODIFIED:20260407T032003Z
DTSTAMP:20260407T032003Z
SUMMARY:Herbstferien 2026 Bayern
DTSTART;VALUE=DATE:20261102
DTEND;VALUE=DATE:20261107
URL:http://www.schulferien.org
DESCRIPTION:Alle Termine auf www.schulferien.org
TRANSP:TRANSPARENT
UID:F_2026_termin69d45bc6add97@schulferien.org
END:VEVENT
BEGIN:VEVENT
CREATED:20260407T032003Z
LAST-MODIFIED:20260407T032003Z
DTSTAMP:20260407T032003Z
SUMMARY:Herbstferien 2026 Bayern
DTSTART;VALUE=DATE:20261118
DTEND;VALUE=DATE:20261119
URL:http://www.schulferien.org
DESCRIPTION:Alle Termine auf www.schulferien.org
TRANSP:TRANSPARENT
UID:F_2026_termin69d45bc6addc3@schulferien.org
END:VEVENT
BEGIN:VEVENT
CREATED:20260407T032003Z
LAST-MODIFIED:20260407T032003Z
DTSTAMP:20260407T032003Z
SUMMARY:Weihnachtsferien 2026 Bayern
DTSTART;VALUE=DATE:20261224
DTEND;VALUE=DATE:20270109
URL:http://www.schulferien.org
DESCRIPTION:Alle Termine auf www.schulferien.org
TRANSP:TRANSPARENT
UID:F_2026_termin69d45bc6adde8@schulferien.org
END:VEVENT
END:VCALENDAR