BEGIN:VCALENDAR
VERSION:2.0
METHOD:PUBLISH
PRODID:-//schulferien.org//iCal Generator//DE
BEGIN:VEVENT
CREATED:20260407T032003Z
LAST-MODIFIED:20260407T032003Z
DTSTAMP:20260407T032003Z
SUMMARY:Neujahr
DTSTART;VALUE=DATE:20250101
DTEND;VALUE=DATE:20250102
URL:http://www.schulferien.org
DESCRIPTION:Alle Termine auf www.schulferien.org
TRANSP:TRANSPARENT
UID:FT_2025_feiertag69d45bc34fae3@schulferien.org
END:VEVENT
BEGIN:VEVENT
CREATED:20260407T032003Z
LAST-MODIFIED:20260407T032003Z
DTSTAMP:20260407T032003Z
SUMMARY:2. Weihnachtsfeiertag
DTSTART;VALUE=DATE:20251226
DTEND;VALUE=DATE:20251227
URL:http://www.schulferien.org
DESCRIPTION:Alle Termine auf www.schulferien.org
TRANSP:TRANSPARENT
UID:FT_2025_feiertag69d45bc443e5c@schulferien.org
END:VEVENT
BEGIN:VEVENT
CREATED:20260407T032003Z
LAST-MODIFIED:20260407T032003Z
DTSTAMP:20260407T032003Z
SUMMARY:Heilige Drei Könige
DTSTART;VALUE=DATE:20250106
DTEND;VALUE=DATE:20250107
URL:http://www.schulferien.org
DESCRIPTION:Alle Termine auf www.schulferien.org
TRANSP:TRANSPARENT
UID:FT_2025_feiertag69d45bc362612@schulferien.org
END:VEVENT
BEGIN:VEVENT
CREATED:20260407T032003Z
LAST-MODIFIED:20260407T032003Z
DTSTAMP:20260407T032003Z
SUMMARY:Karfreitag
DTSTART;VALUE=DATE:20250418
DTEND;VALUE=DATE:20250419
URL:http://www.schulferien.org
DESCRIPTION:Alle Termine auf www.schulferien.org
TRANSP:TRANSPARENT
UID:FT_2025_feiertag69d45bc3c509a@schulferien.org
END:VEVENT
BEGIN:VEVENT
CREATED:20260407T032003Z
LAST-MODIFIED:20260407T032003Z
DTSTAMP:20260407T032003Z
SUMMARY:Ostermontag
DTSTART;VALUE=DATE:20250421
DTEND;VALUE=DATE:20250422
URL:http://www.schulferien.org
DESCRIPTION:Alle Termine auf www.schulferien.org
TRANSP:TRANSPARENT
UID:FT_2025_feiertag69d45bc3decda@schulferien.org
END:VEVENT
BEGIN:VEVENT
CREATED:20260407T032003Z
LAST-MODIFIED:20260407T032003Z
DTSTAMP:20260407T032003Z
SUMMARY:Tag der Arbeit
DTSTART;VALUE=DATE:20250501
DTEND;VALUE=DATE:20250502
URL:http://www.schulferien.org
DESCRIPTION:Alle Termine auf www.schulferien.org
TRANSP:TRANSPARENT
UID:FT_2025_feiertag69d45bc3e4a1b@schulferien.org
END:VEVENT
BEGIN:VEVENT
CREATED:20260407T032003Z
LAST-MODIFIED:20260407T032003Z
DTSTAMP:20260407T032003Z
SUMMARY:Christi Himmelfahrt
DTSTART;VALUE=DATE:20250529
DTEND;VALUE=DATE:20250530
URL:http://www.schulferien.org
DESCRIPTION:Alle Termine auf www.schulferien.org
TRANSP:TRANSPARENT
UID:FT_2025_feiertag69d45bc416c06@schulferien.org
END:VEVENT
BEGIN:VEVENT
CREATED:20260407T032003Z
LAST-MODIFIED:20260407T032003Z
DTSTAMP:20260407T032003Z
SUMMARY:Pfingstmontag
DTSTART;VALUE=DATE:20250609
DTEND;VALUE=DATE:20250610
URL:http://www.schulferien.org
DESCRIPTION:Alle Termine auf www.schulferien.org
TRANSP:TRANSPARENT
UID:FT_2025_feiertag69d45bc42ebe0@schulferien.org
END:VEVENT
BEGIN:VEVENT
CREATED:20260407T032003Z
LAST-MODIFIED:20260407T032003Z
DTSTAMP:20260407T032003Z
SUMMARY:Fronleichnam
DTSTART;VALUE=DATE:20250619
DTEND;VALUE=DATE:20250620
URL:http://www.schulferien.org
DESCRIPTION:Alle Termine auf www.schulferien.org
TRANSP:TRANSPARENT
UID:FT_2025_feiertag69d45bc4381ac@schulferien.org
END:VEVENT
BEGIN:VEVENT
CREATED:20260407T032003Z
LAST-MODIFIED:20260407T032003Z
DTSTAMP:20260407T032003Z
SUMMARY:Mariä Himmelfahrt
DTSTART;VALUE=DATE:20250815
DTEND;VALUE=DATE:20250816
URL:http://www.schulferien.org
DESCRIPTION:Alle Termine auf www.schulferien.org
TRANSP:TRANSPARENT
UID:FT_2025_feiertag69d45bc442ea1@schulferien.org
END:VEVENT
BEGIN:VEVENT
CREATED:20260407T032003Z
LAST-MODIFIED:20260407T032003Z
DTSTAMP:20260407T032003Z
SUMMARY:Tag der Deutschen Einheit
DTSTART;VALUE=DATE:20251003
DTEND;VALUE=DATE:20251004
URL:http://www.schulferien.org
DESCRIPTION:Alle Termine auf www.schulferien.org
TRANSP:TRANSPARENT
UID:FT_2025_feiertag69d45bc358836@schulferien.org
END:VEVENT
BEGIN:VEVENT
CREATED:20260407T032003Z
LAST-MODIFIED:20260407T032003Z
DTSTAMP:20260407T032003Z
SUMMARY:Allerheiligen
DTSTART;VALUE=DATE:20251101
DTEND;VALUE=DATE:20251102
URL:http://www.schulferien.org
DESCRIPTION:Alle Termine auf www.schulferien.org
TRANSP:TRANSPARENT
UID:FT_2025_feiertag69d45bc398466@schulferien.org
END:VEVENT
BEGIN:VEVENT
CREATED:20260407T032003Z
LAST-MODIFIED:20260407T032003Z
DTSTAMP:20260407T032003Z
SUMMARY:1. Weihnachtsfeiertag
DTSTART;VALUE=DATE:20251225
DTEND;VALUE=DATE:20251226
URL:http://www.schulferien.org
DESCRIPTION:Alle Termine auf www.schulferien.org
TRANSP:TRANSPARENT
UID:FT_2025_feiertag69d45bc43a992@schulferien.org
END:VEVENT
END:VCALENDAR