BEGIN:VCALENDAR
VERSION:2.0
METHOD:PUBLISH
PRODID:-//schulferien.org//iCal Generator//DE
BEGIN:VEVENT
CREATED:20260407T032003Z
LAST-MODIFIED:20260407T032003Z
DTSTAMP:20260407T032003Z
SUMMARY:Winterferien 2025 Bayern
DTSTART;VALUE=DATE:20250303
DTEND;VALUE=DATE:20250308
URL:http://www.schulferien.org
DESCRIPTION:Alle Termine auf www.schulferien.org
TRANSP:TRANSPARENT
UID:F_2025_termin69d45bc5c1a9e@schulferien.org
END:VEVENT
BEGIN:VEVENT
CREATED:20260407T032003Z
LAST-MODIFIED:20260407T032003Z
DTSTAMP:20260407T032003Z
SUMMARY:Osterferien 2025 Bayern
DTSTART;VALUE=DATE:20250414
DTEND;VALUE=DATE:20250426
URL:http://www.schulferien.org
DESCRIPTION:Alle Termine auf www.schulferien.org
TRANSP:TRANSPARENT
UID:F_2025_termin69d45bc5c290e@schulferien.org
END:VEVENT
BEGIN:VEVENT
CREATED:20260407T032003Z
LAST-MODIFIED:20260407T032003Z
DTSTAMP:20260407T032003Z
SUMMARY:Pfingstferien 2025 Bayern
DTSTART;VALUE=DATE:20250610
DTEND;VALUE=DATE:20250621
URL:http://www.schulferien.org
DESCRIPTION:Alle Termine auf www.schulferien.org
TRANSP:TRANSPARENT
UID:F_2025_termin69d45bc5c2952@schulferien.org
END:VEVENT
BEGIN:VEVENT
CREATED:20260407T032003Z
LAST-MODIFIED:20260407T032003Z
DTSTAMP:20260407T032003Z
SUMMARY:Sommerferien 2025 Bayern
DTSTART;VALUE=DATE:20250801
DTEND;VALUE=DATE:20250916
URL:http://www.schulferien.org
DESCRIPTION:Alle Termine auf www.schulferien.org
TRANSP:TRANSPARENT
UID:F_2025_termin69d45bc5c2981@schulferien.org
END:VEVENT
BEGIN:VEVENT
CREATED:20260407T032003Z
LAST-MODIFIED:20260407T032003Z
DTSTAMP:20260407T032003Z
SUMMARY:Herbstferien 2025 Bayern
DTSTART;VALUE=DATE:20251103
DTEND;VALUE=DATE:20251108
URL:http://www.schulferien.org
DESCRIPTION:Alle Termine auf www.schulferien.org
TRANSP:TRANSPARENT
UID:F_2025_termin69d45bc5c29b7@schulferien.org
END:VEVENT
BEGIN:VEVENT
CREATED:20260407T032003Z
LAST-MODIFIED:20260407T032003Z
DTSTAMP:20260407T032003Z
SUMMARY:Herbstferien 2025 Bayern
DTSTART;VALUE=DATE:20251119
DTEND;VALUE=DATE:20251120
URL:http://www.schulferien.org
DESCRIPTION:Alle Termine auf www.schulferien.org
TRANSP:TRANSPARENT
UID:F_2025_termin69d45bc5c29dd@schulferien.org
END:VEVENT
BEGIN:VEVENT
CREATED:20260407T032003Z
LAST-MODIFIED:20260407T032003Z
DTSTAMP:20260407T032003Z
SUMMARY:Weihnachtsferien 2025 Bayern
DTSTART;VALUE=DATE:20251222
DTEND;VALUE=DATE:20260106
URL:http://www.schulferien.org
DESCRIPTION:Alle Termine auf www.schulferien.org
TRANSP:TRANSPARENT
UID:F_2025_termin69d45bc5c2a01@schulferien.org
END:VEVENT
END:VCALENDAR